BEGIN:VCALENDAR
VERSION:2.0
PRODID:-//Werbegemeinschaft Magniviertel e.V. - ECPv4.9.14//NONSGML v1.0//EN
CALSCALE:GREGORIAN
METHOD:PUBLISH
X-WR-CALNAME:Werbegemeinschaft Magniviertel e.V.
X-ORIGINAL-URL:https://magni-viertel.de
X-WR-CALDESC:Veranstaltungen im Werbegemeinschaft Magniviertel e.V.
BEGIN:VTIMEZONE
TZID:Europe/Berlin
BEGIN:DAYLIGHT
TZOFFSETFROM:+0100
TZOFFSETTO:+0200
TZNAME:CEST
DTSTART:20240331T010000
END:DAYLIGHT
BEGIN:STANDARD
TZOFFSETFROM:+0200
TZOFFSETTO:+0100
TZNAME:CET
DTSTART:20241027T010000
END:STANDARD
END:VTIMEZONE
BEGIN:VEVENT
DTSTART;TZID=Europe/Berlin:20240506T110000
DTEND;TZID=Europe/Berlin:20240506T110000
DTSTAMP:20260424T155601
CREATED:20240506T145422Z
LAST-MODIFIED:20240506T150452Z
UID:805-1714993200-1714993200@magni-viertel.de
SUMMARY:byNetta - 3 Jahre Magniviertel
DESCRIPTION:Am 4. Mai ist es soweit und byNetta ist seit nunmehr drei Jahre in unserem wunderschönen Magniviertel. Das wird natürlich gefeiert. Ihr seid herzlich eingeladen vorbeizuschauen. Von 11 bis 16 Uhr git es einen tollen Hofflohmarkt im Innenhof\, bei dem du tolle Sachen\, Damen- und Kindermode\, Deko & Bücher und vieles mehr entdecken kannst. Deinen Gaumen kannst du mit leckeren Zimtschnecken\, Waffeln und Hörnchen verwöhnen. Zum Trinken und Anstoßen warten auf euch Aperol Spritz und Sekt. Der Laden ist bis 18 Uhr geöffnet. \n
URL:https://magni-viertel.de/veranstaltung/bynetta-3-jahre-magniviertel/
LOCATION:byNetta\, Kuhstraße 28\, Braunschweig\, Niedersachsen\, 38100\, Deutschland
END:VEVENT
END:VCALENDAR