BEGIN:VCALENDAR
VERSION:2.0
PRODID:-//Werbegemeinschaft Magniviertel e.V. - ECPv4.9.14//NONSGML v1.0//EN
CALSCALE:GREGORIAN
METHOD:PUBLISH
X-WR-CALNAME:Werbegemeinschaft Magniviertel e.V.
X-ORIGINAL-URL:https://magni-viertel.de
X-WR-CALDESC:Veranstaltungen im Werbegemeinschaft Magniviertel e.V.
BEGIN:VTIMEZONE
TZID:Europe/Berlin
BEGIN:DAYLIGHT
TZOFFSETFROM:+0100
TZOFFSETTO:+0200
TZNAME:CEST
DTSTART:20230326T010000
END:DAYLIGHT
BEGIN:STANDARD
TZOFFSETFROM:+0200
TZOFFSETTO:+0100
TZNAME:CET
DTSTART:20231029T010000
END:STANDARD
END:VTIMEZONE
BEGIN:VEVENT
DTSTART;VALUE=DATE:20230908
DTEND;VALUE=DATE:20230911
DTSTAMP:20260424T160258
CREATED:20230615T145604Z
LAST-MODIFIED:20230615T145955Z
UID:699-1694131200-1694390399@magni-viertel.de
SUMMARY:Magnifest 2023
DESCRIPTION:Das Magnifest ist endlich wieder da!\nNach 3 Jahren Coronapause freuen wir uns um so mehr mitteilen zu können\, dass das Magnifest nun endlich wieder auf dem Plan steht. \nDas Fest wird in diesem Jahr vom 8. bis 10. September stattfinden. \nWeitere Infos folgen in Kürze unter:\nhttps://magni-fest.de/ \nBis dahin gibt es für alle Neugierigen schonmal einen Beitrag in der Braunschweiger Zeitung:\nhttps://www.braunschweiger-zeitung.de/braunschweig/article238643055/Riesenfreude-Braunschweiger-Magnifest-findet-wieder-statt.html \nWir freuen uns auf gutgelaunte Besucher\, tolle Musik und gutes Essen! \n
URL:https://magni-viertel.de/veranstaltung/magnifest-2023/
LOCATION:Magniviertel\, Braunschweig\, 38100
END:VEVENT
END:VCALENDAR